Package: openCyto Version: 2.20.0 Command: E:\biocbuild\bbs-3.21-bioc\R\bin\R.exe CMD check --no-multiarch --install=check:openCyto.install-out.txt --library=E:\biocbuild\bbs-3.21-bioc\R\library --no-vignettes --timings openCyto_2.20.0.tar.gz StartedAt: 2025-08-15 05:03:18 -0400 (Fri, 15 Aug 2025) EndedAt: 2025-08-15 05:07:01 -0400 (Fri, 15 Aug 2025) EllapsedTime: 222.8 seconds RetCode: 0 Status: WARNINGS CheckDir: openCyto.Rcheck Warnings: 2