Package: openCyto Version: 2.20.0 Command: chmod a+r openCyto -R && E:\biocbuild\bbs-3.21-bioc\R\bin\R.exe CMD build --keep-empty-dirs --no-resave-data openCyto StartedAt: 2025-08-14 20:58:35 -0400 (Thu, 14 Aug 2025) EndedAt: 2025-08-14 21:05:15 -0400 (Thu, 14 Aug 2025) EllapsedTime: 400.0 seconds RetCode: 0 Status: OK PackageFile: openCyto_2.20.0.tar.gz PackageFileSize: 1.05 MiB