Package: openCyto Version: 2.20.1 Command: /Library/Frameworks/R.framework/Resources/bin/R CMD INSTALL openCyto StartedAt: 2025-10-13 15:34:07 -0400 (Mon, 13 Oct 2025) EndedAt: 2025-10-13 15:35:16 -0400 (Mon, 13 Oct 2025) EllapsedTime: 68.2 seconds RetCode: 0 Status: OK