Package: openCyto Version: 2.20.1 Command: /Library/Frameworks/R.framework/Resources/bin/R CMD check --install=check:openCyto.install-out.txt --library=/Library/Frameworks/R.framework/Resources/library --no-vignettes --timings openCyto_2.20.1.tar.gz StartedAt: 2025-10-14 07:43:33 -0400 (Tue, 14 Oct 2025) EndedAt: 2025-10-14 07:48:43 -0400 (Tue, 14 Oct 2025) EllapsedTime: 310.0 seconds RetCode: 0 Status: WARNINGS CheckDir: openCyto.Rcheck Warnings: 2