Package: openCyto Version: 2.20.1 Command: rm -rf openCyto.buildbin-libdir && mkdir openCyto.buildbin-libdir && /Users/biocbuild/BBS/utils/build-universal.sh openCyto_2.20.1.tar.gz /Library/Frameworks/R.framework/Resources/bin/R openCyto.buildbin-libdir StartedAt: 2025-10-14 14:18:24 -0400 (Tue, 14 Oct 2025) EndedAt: 2025-10-14 14:20:03 -0400 (Tue, 14 Oct 2025) EllapsedTime: 98.2 seconds RetCode: 0 Status: OK PackageFile: openCyto_2.20.1.tgz PackageFileSize: 2.728 MiB