Package: openCyto Version: 2.20.0 Command: /Library/Frameworks/R.framework/Resources/bin/R CMD INSTALL openCyto StartedAt: 2025-04-21 15:20:37 -0400 (Mon, 21 Apr 2025) EndedAt: 2025-04-21 15:20:40 -0400 (Mon, 21 Apr 2025) EllapsedTime: 3.2 seconds RetCode: 1 Status: ERROR