Package: openCyto Version: 2.20.1 Command: /Library/Frameworks/R.framework/Resources/bin/R CMD check --install=check:openCyto.install-out.txt --library=/Library/Frameworks/R.framework/Resources/library --no-vignettes --timings openCyto_2.20.1.tar.gz StartedAt: 2025-10-15 06:29:22 -0400 (Wed, 15 Oct 2025) EndedAt: 2025-10-15 06:32:05 -0400 (Wed, 15 Oct 2025) EllapsedTime: 163.2 seconds RetCode: 0 Status: WARNINGS CheckDir: openCyto.Rcheck Warnings: 2