Package: ontoProc Version: 2.2.0 Command: /Library/Frameworks/R.framework/Resources/bin/R CMD INSTALL ontoProc StartedAt: 2025-04-21 15:29:31 -0400 (Mon, 21 Apr 2025) EndedAt: 2025-04-21 15:30:15 -0400 (Mon, 21 Apr 2025) EllapsedTime: 44.1 seconds RetCode: 0 Status: OK