Package: onlineFDR Version: 2.16.0 Command: rm -rf onlineFDR.buildbin-libdir && mkdir onlineFDR.buildbin-libdir && /Users/biocbuild/BBS/utils/build-universal.sh onlineFDR_2.16.0.tar.gz /Library/Frameworks/R.framework/Resources/bin/R onlineFDR.buildbin-libdir StartedAt: 2025-04-22 00:58:57 -0400 (Tue, 22 Apr 2025) EndedAt: 2025-04-22 00:59:48 -0400 (Tue, 22 Apr 2025) EllapsedTime: 50.8 seconds RetCode: 0 Status: OK PackageFile: onlineFDR_2.16.0.tgz PackageFileSize: 1.255 MiB