Package: oncomix Version: 1.30.0 Command: /home/biocbuild/bbs-3.21-bioc/R/bin/R CMD build --keep-empty-dirs --no-resave-data oncomix StartedAt: 2025-10-15 18:57:00 -0400 (Wed, 15 Oct 2025) EndedAt: 2025-10-15 18:57:43 -0400 (Wed, 15 Oct 2025) EllapsedTime: 43.0 seconds RetCode: 0 Status: OK PackageFile: oncomix_1.30.0.tar.gz PackageFileSize: 2.395 MiB