Package: oncomix Version: 1.30.0 Command: /Library/Frameworks/R.framework/Resources/bin/R CMD INSTALL oncomix StartedAt: 2025-10-13 15:59:37 -0400 (Mon, 13 Oct 2025) EndedAt: 2025-10-13 16:00:27 -0400 (Mon, 13 Oct 2025) EllapsedTime: 50.1 seconds RetCode: 0 Status: OK