Package: oncomix Version: 1.30.0 Command: /Library/Frameworks/R.framework/Resources/bin/R CMD INSTALL oncomix StartedAt: 2025-10-13 16:55:25 -0400 (Mon, 13 Oct 2025) EndedAt: 2025-10-13 16:55:53 -0400 (Mon, 13 Oct 2025) EllapsedTime: 28.1 seconds RetCode: 0 Status: OK