Package: oncomix Version: 1.30.0 Command: /Library/Frameworks/R.framework/Resources/bin/R CMD build --keep-empty-dirs --no-resave-data oncomix StartedAt: 2025-10-14 05:56:47 -0400 (Tue, 14 Oct 2025) EndedAt: 2025-10-14 05:57:39 -0400 (Tue, 14 Oct 2025) EllapsedTime: 52.6 seconds RetCode: 0 Status: OK PackageFile: oncomix_1.30.0.tar.gz PackageFileSize: 2.436 MiB