Package: omicRexposome Version: 1.30.0 Command: /Library/Frameworks/R.framework/Resources/bin/R CMD check --install=check:omicRexposome.install-out.txt --library=/Library/Frameworks/R.framework/Resources/library --no-vignettes --timings omicRexposome_1.30.0.tar.gz StartedAt: 2025-10-14 07:38:31 -0400 (Tue, 14 Oct 2025) EndedAt: 2025-10-14 07:47:43 -0400 (Tue, 14 Oct 2025) EllapsedTime: 552.0 seconds RetCode: 0 Status: OK CheckDir: omicRexposome.Rcheck Warnings: 0