Package: omicRexposome Version: 1.30.0 Command: /Library/Frameworks/R.framework/Resources/bin/R CMD build --keep-empty-dirs --no-resave-data omicRexposome StartedAt: 2025-10-13 21:13:38 -0400 (Mon, 13 Oct 2025) EndedAt: 2025-10-13 21:34:09 -0400 (Mon, 13 Oct 2025) EllapsedTime: 1230.8 seconds RetCode: 0 Status: OK PackageFile: omicRexposome_1.30.0.tar.gz PackageFileSize: 2.59 MiB