Package: omicRexposome Version: 1.30.0 Command: rm -rf omicRexposome.buildbin-libdir && mkdir omicRexposome.buildbin-libdir && /Users/biocbuild/BBS/utils/build-universal.sh omicRexposome_1.30.0.tar.gz /Library/Frameworks/R.framework/Resources/bin/R omicRexposome.buildbin-libdir StartedAt: 2025-04-21 22:45:13 -0400 (Mon, 21 Apr 2025) EndedAt: 2025-04-21 22:45:33 -0400 (Mon, 21 Apr 2025) EllapsedTime: 20.4 seconds RetCode: 0 Status: OK PackageFile: omicRexposome_1.30.0.tgz PackageFileSize: 2.912 MiB