Package: omada Version: 1.10.0 Command: chmod a+r omada -R && E:\biocbuild\bbs-3.21-bioc\R\bin\R.exe CMD build --keep-empty-dirs --no-resave-data omada StartedAt: 2025-08-14 20:55:43 -0400 (Thu, 14 Aug 2025) EndedAt: 2025-08-14 20:58:44 -0400 (Thu, 14 Aug 2025) EllapsedTime: 181.6 seconds RetCode: 0 Status: OK PackageFile: omada_1.10.0.tar.gz PackageFileSize: 83.28 KiB