Package: omada Version: 1.10.0 Command: rm -rf omada.buildbin-libdir && mkdir omada.buildbin-libdir && E:\biocbuild\bbs-3.21-bioc\R\bin\R.exe CMD INSTALL --build --library=omada.buildbin-libdir omada_1.10.0.tar.gz StartedAt: 2025-08-15 09:51:57 -0400 (Fri, 15 Aug 2025) EndedAt: 2025-08-15 09:52:27 -0400 (Fri, 15 Aug 2025) EllapsedTime: 29.9 seconds RetCode: 0 Status: OK PackageFile: omada_1.10.0.zip PackageFileSize: 190 KiB