Package: omada Version: 1.10.0 Command: /home/biocbuild/R/R/bin/R CMD INSTALL omada StartedAt: 2025-10-13 20:22:50 -0000 (Mon, 13 Oct 2025) EndedAt: 2025-10-13 20:23:09 -0000 (Mon, 13 Oct 2025) EllapsedTime: 18.3 seconds RetCode: 0 Status: OK