Package: omada Version: 1.10.0 Command: /home/biocbuild/R/R/bin/R CMD check --install=check:omada.install-out.txt --library=/home/biocbuild/R/R/site-library --no-vignettes --timings omada_1.10.0.tar.gz StartedAt: 2025-10-14 12:06:19 -0000 (Tue, 14 Oct 2025) EndedAt: 2025-10-14 12:22:35 -0000 (Tue, 14 Oct 2025) EllapsedTime: 976.3 seconds RetCode: 0 Status: OK CheckDir: omada.Rcheck Warnings: 0