Package: omXplore Version: 1.2.0 Command: rm -rf omXplore.buildbin-libdir && mkdir omXplore.buildbin-libdir && /Users/biocbuild/BBS/utils/build-universal.sh omXplore_1.2.0.tar.gz /Library/Frameworks/R.framework/Resources/bin/R omXplore.buildbin-libdir StartedAt: 2025-04-22 00:58:50 -0400 (Tue, 22 Apr 2025) EndedAt: 2025-04-22 00:59:54 -0400 (Tue, 22 Apr 2025) EllapsedTime: 63.6 seconds RetCode: 0 Status: OK PackageFile: omXplore_1.2.0.tgz PackageFileSize: 1.557 MiB