Package: oligo Version: 1.72.0 Command: /home/biocbuild/R/R/bin/R CMD build --keep-empty-dirs --no-resave-data oligo StartedAt: 2025-10-14 03:08:34 -0000 (Tue, 14 Oct 2025) EndedAt: 2025-10-14 03:09:41 -0000 (Tue, 14 Oct 2025) EllapsedTime: 67.1 seconds RetCode: 0 Status: OK PackageFile: oligo_1.72.0.tar.gz PackageFileSize: 27.09 MiB