Package: octad Version: 1.10.0 Command: /Library/Frameworks/R.framework/Resources/bin/R CMD INSTALL octad StartedAt: 2025-10-13 16:41:43 -0400 (Mon, 13 Oct 2025) EndedAt: 2025-10-13 16:43:43 -0400 (Mon, 13 Oct 2025) EllapsedTime: 119.3 seconds RetCode: 0 Status: OK