Package: nullranges Version: 1.14.0 Command: /Library/Frameworks/R.framework/Resources/bin/R CMD check --install=check:nullranges.install-out.txt --library=/Library/Frameworks/R.framework/Resources/library --no-vignettes --timings nullranges_1.14.0.tar.gz StartedAt: 2025-04-21 22:20:33 -0400 (Mon, 21 Apr 2025) EndedAt: 2025-04-21 22:25:37 -0400 (Mon, 21 Apr 2025) EllapsedTime: 303.5 seconds RetCode: 0 Status: OK CheckDir: nullranges.Rcheck Warnings: 0