Package: nucleR Version: 2.40.0 Command: /home/biocbuild/R/R/bin/R CMD check --install=check:nucleR.install-out.txt --library=/home/biocbuild/R/R/site-library --no-vignettes --timings nucleR_2.40.0.tar.gz StartedAt: 2025-10-14 12:03:41 -0000 (Tue, 14 Oct 2025) EndedAt: 2025-10-14 12:10:16 -0000 (Tue, 14 Oct 2025) EllapsedTime: 394.6 seconds RetCode: 0 Status: WARNINGS CheckDir: nucleR.Rcheck Warnings: 1