Package: nucleR Version: 2.40.0 Command: /Library/Frameworks/R.framework/Resources/bin/R CMD check --install=check:nucleR.install-out.txt --library=/Library/Frameworks/R.framework/Resources/library --no-vignettes --timings nucleR_2.40.0.tar.gz StartedAt: 2025-04-21 20:41:29 -0400 (Mon, 21 Apr 2025) EndedAt: 2025-04-21 20:43:20 -0400 (Mon, 21 Apr 2025) EllapsedTime: 110.4 seconds RetCode: 0 Status: WARNINGS CheckDir: nucleR.Rcheck Warnings: 1