Package: nuCpos Version: 1.26.0 Command: rm -rf nuCpos.buildbin-libdir && mkdir nuCpos.buildbin-libdir && /Users/biocbuild/BBS/utils/build-universal.sh nuCpos_1.26.0.tar.gz /Library/Frameworks/R.framework/Resources/bin/R nuCpos.buildbin-libdir StartedAt: 2025-10-14 14:16:52 -0400 (Tue, 14 Oct 2025) EndedAt: 2025-10-14 14:17:11 -0400 (Tue, 14 Oct 2025) EllapsedTime: 18.2 seconds RetCode: 0 Status: OK PackageFile: nuCpos_1.26.0.tgz PackageFileSize: 1.712 MiB