Package: nuCpos Version: 1.26.0 Command: /Library/Frameworks/R.framework/Resources/bin/R CMD check --install=check:nuCpos.install-out.txt --library=/Library/Frameworks/R.framework/Resources/library --no-vignettes --timings nuCpos_1.26.0.tar.gz StartedAt: 2025-10-15 06:08:05 -0400 (Wed, 15 Oct 2025) EndedAt: 2025-10-15 06:08:52 -0400 (Wed, 15 Oct 2025) EllapsedTime: 47.0 seconds RetCode: 0 Status: OK CheckDir: nuCpos.Rcheck Warnings: 0