Package: npGSEA Version: 1.44.0 Command: /home/biocbuild/R/R/bin/R CMD check --install=check:npGSEA.install-out.txt --library=/home/biocbuild/R/R/site-library --no-vignettes --timings npGSEA_1.44.0.tar.gz StartedAt: 2025-10-14 12:02:25 -0000 (Tue, 14 Oct 2025) EndedAt: 2025-10-14 12:04:54 -0000 (Tue, 14 Oct 2025) EllapsedTime: 148.2 seconds RetCode: 0 Status: OK CheckDir: npGSEA.Rcheck Warnings: 0