Package: npGSEA Version: 1.44.0 Command: /home/biocbuild/R/R/bin/R CMD build --keep-empty-dirs --no-resave-data npGSEA StartedAt: 2025-10-14 03:06:31 -0000 (Tue, 14 Oct 2025) EndedAt: 2025-10-14 03:07:27 -0000 (Tue, 14 Oct 2025) EllapsedTime: 56.1 seconds RetCode: 0 Status: OK PackageFile: npGSEA_1.44.0.tar.gz PackageFileSize: 357.3 KiB