Package: normr Version: 1.34.0 Command: rm -rf normr.buildbin-libdir && mkdir normr.buildbin-libdir && /Users/biocbuild/BBS/utils/build-universal.sh normr_1.34.0.tar.gz /Library/Frameworks/R.framework/Resources/bin/R normr.buildbin-libdir StartedAt: 2025-04-21 22:44:54 -0400 (Mon, 21 Apr 2025) EndedAt: 2025-04-21 22:45:14 -0400 (Mon, 21 Apr 2025) EllapsedTime: 19.4 seconds RetCode: 0 Status: OK PackageFile: normr_1.34.0.tgz PackageFileSize: 4.201 MiB