Package: normr Version: 1.34.0 Maintainer: Johannes Helmuth MaintainerEmail: johannes.helmuth at laborberlin.com git_url: https://git.bioconductor.org/packages/normr git_branch: RELEASE_3_21 git_last_commit: 7cf57fa git_last_commit_date: 2025-04-15 11:03:00 -0400 (Tue, 15 Apr 2025)