Package: normalize450K Version: 1.36.0 Command: /home/biocbuild/bbs-3.21-bioc/R/bin/R CMD INSTALL normalize450K StartedAt: 2025-10-15 15:56:45 -0400 (Wed, 15 Oct 2025) EndedAt: 2025-10-15 15:57:00 -0400 (Wed, 15 Oct 2025) EllapsedTime: 15.7 seconds RetCode: 0 Status: OK