Package: normalize450K Version: 1.36.0 Command: /home/biocbuild/bbs-3.21-bioc/R/bin/R CMD build --keep-empty-dirs --no-resave-data normalize450K StartedAt: 2025-10-15 18:52:53 -0400 (Wed, 15 Oct 2025) EndedAt: 2025-10-15 18:53:29 -0400 (Wed, 15 Oct 2025) EllapsedTime: 36.0 seconds RetCode: 0 Status: OK PackageFile: normalize450K_1.36.0.tar.gz PackageFileSize: 3.137 MiB