Package: normalize450K Version: 1.36.0 Command: /Library/Frameworks/R.framework/Resources/bin/R CMD INSTALL normalize450K StartedAt: 2025-10-13 15:26:56 -0400 (Mon, 13 Oct 2025) EndedAt: 2025-10-13 15:27:21 -0400 (Mon, 13 Oct 2025) EllapsedTime: 25.3 seconds RetCode: 0 Status: OK