Package: normalize450K Version: 1.36.0 Command: /Library/Frameworks/R.framework/Resources/bin/R CMD check --install=check:normalize450K.install-out.txt --library=/Library/Frameworks/R.framework/Resources/library --no-vignettes --timings normalize450K_1.36.0.tar.gz StartedAt: 2025-10-14 07:31:24 -0400 (Tue, 14 Oct 2025) EndedAt: 2025-10-14 07:32:38 -0400 (Tue, 14 Oct 2025) EllapsedTime: 73.3 seconds RetCode: 0 Status: OK CheckDir: normalize450K.Rcheck Warnings: 0