Package: normalize450K Version: 1.36.0 Command: /home/biocbuild/R/R/bin/R CMD INSTALL normalize450K StartedAt: 2025-10-13 20:26:20 -0000 (Mon, 13 Oct 2025) EndedAt: 2025-10-13 20:26:39 -0000 (Mon, 13 Oct 2025) EllapsedTime: 18.9 seconds RetCode: 0 Status: OK