Package: normalize450K Version: 1.36.0 Command: /home/biocbuild/R/R/bin/R CMD build --keep-empty-dirs --no-resave-data normalize450K StartedAt: 2025-10-14 03:05:45 -0000 (Tue, 14 Oct 2025) EndedAt: 2025-10-14 03:06:16 -0000 (Tue, 14 Oct 2025) EllapsedTime: 31.1 seconds RetCode: 0 Status: OK PackageFile: normalize450K_1.36.0.tar.gz PackageFileSize: 3.132 MiB