Package: nondetects Version: 2.38.1 Command: rm -rf nondetects.buildbin-libdir && mkdir nondetects.buildbin-libdir && E:\biocbuild\bbs-3.21-bioc\R\bin\R.exe CMD INSTALL --build --library=nondetects.buildbin-libdir nondetects_2.38.1.tar.gz StartedAt: 2025-08-15 09:51:00 -0400 (Fri, 15 Aug 2025) EndedAt: 2025-08-15 09:51:19 -0400 (Fri, 15 Aug 2025) EllapsedTime: 18.3 seconds RetCode: 0 Status: OK PackageFile: nondetects_2.38.1.zip PackageFileSize: 151.6 KiB