Package: nondetects Version: 2.38.1 Command: /home/biocbuild/bbs-3.21-bioc/R/bin/R CMD check --install=check:nondetects.install-out.txt --library=/home/biocbuild/bbs-3.21-bioc/R/site-library --timings nondetects_2.38.1.tar.gz StartedAt: 2025-10-16 01:43:04 -0400 (Thu, 16 Oct 2025) EndedAt: 2025-10-16 01:49:25 -0400 (Thu, 16 Oct 2025) EllapsedTime: 380.5 seconds RetCode: 0 Status: OK CheckDir: nondetects.Rcheck Warnings: 0