Package: nondetects Version: 2.38.1 Command: /Library/Frameworks/R.framework/Resources/bin/R CMD INSTALL nondetects StartedAt: 2025-10-13 15:27:21 -0400 (Mon, 13 Oct 2025) EndedAt: 2025-10-13 15:27:39 -0400 (Mon, 13 Oct 2025) EllapsedTime: 18.6 seconds RetCode: 0 Status: OK