Package: nondetects Version: 2.38.1 Command: /Library/Frameworks/R.framework/Resources/bin/R CMD check --install=check:nondetects.install-out.txt --library=/Library/Frameworks/R.framework/Resources/library --no-vignettes --timings nondetects_2.38.1.tar.gz StartedAt: 2025-10-14 07:31:04 -0400 (Tue, 14 Oct 2025) EndedAt: 2025-10-14 07:47:19 -0400 (Tue, 14 Oct 2025) EllapsedTime: 975.7 seconds RetCode: 0 Status: OK CheckDir: nondetects.Rcheck Warnings: 0