Package: nondetects Version: 2.38.1 Command: /home/biocbuild/R/R/bin/R CMD INSTALL nondetects StartedAt: 2025-10-13 20:26:54 -0000 (Mon, 13 Oct 2025) EndedAt: 2025-10-13 20:27:06 -0000 (Mon, 13 Oct 2025) EllapsedTime: 11.7 seconds RetCode: 0 Status: OK