Package: nondetects Version: 2.38.1 Command: /home/biocbuild/R/R/bin/R CMD check --install=check:nondetects.install-out.txt --library=/home/biocbuild/R/R/site-library --no-vignettes --timings nondetects_2.38.1.tar.gz StartedAt: 2025-10-14 11:59:55 -0000 (Tue, 14 Oct 2025) EndedAt: 2025-10-14 12:10:18 -0000 (Tue, 14 Oct 2025) EllapsedTime: 622.9 seconds RetCode: 0 Status: OK CheckDir: nondetects.Rcheck Warnings: 0