Package: nondetects Version: 2.38.1 Command: /Library/Frameworks/R.framework/Resources/bin/R CMD check --install=check:nondetects.install-out.txt --library=/Library/Frameworks/R.framework/Resources/library --no-vignettes --timings nondetects_2.38.1.tar.gz StartedAt: 2025-10-15 06:01:45 -0400 (Wed, 15 Oct 2025) EndedAt: 2025-10-15 06:07:30 -0400 (Wed, 15 Oct 2025) EllapsedTime: 344.8 seconds RetCode: 0 Status: OK CheckDir: nondetects.Rcheck Warnings: 0