Package: nondetects Version: 2.38.1 Command: /Library/Frameworks/R.framework/Resources/bin/R CMD build --keep-empty-dirs --no-resave-data nondetects StartedAt: 2025-10-14 05:45:09 -0400 (Tue, 14 Oct 2025) EndedAt: 2025-10-14 05:47:25 -0400 (Tue, 14 Oct 2025) EllapsedTime: 136.7 seconds RetCode: 0 Status: OK PackageFile: nondetects_2.38.1.tar.gz PackageFileSize: 137.3 KiB