Package: nnSVG Version: 1.12.0 Command: rm -rf nnSVG.buildbin-libdir && mkdir nnSVG.buildbin-libdir && /Users/biocbuild/BBS/utils/build-universal.sh nnSVG_1.12.0.tar.gz /Library/Frameworks/R.framework/Resources/bin/R nnSVG.buildbin-libdir StartedAt: 2025-04-22 00:58:13 -0400 (Tue, 22 Apr 2025) EndedAt: 2025-04-22 00:58:48 -0400 (Tue, 22 Apr 2025) EllapsedTime: 34.7 seconds RetCode: 0 Status: OK PackageFile: nnSVG_1.12.0.tgz PackageFileSize: 1.53 MiB