Package: nnNorm Version: 2.72.0 Command: /home/biocbuild/bbs-3.21-bioc/R/bin/R CMD INSTALL nnNorm StartedAt: 2025-10-15 15:03:28 -0400 (Wed, 15 Oct 2025) EndedAt: 2025-10-15 15:03:42 -0400 (Wed, 15 Oct 2025) EllapsedTime: 14.4 seconds RetCode: 0 Status: OK