Package: nnNorm Version: 2.72.0 Command: /home/biocbuild/bbs-3.21-bioc/R/bin/R CMD check --install=check:nnNorm.install-out.txt --library=/home/biocbuild/bbs-3.21-bioc/R/site-library --timings nnNorm_2.72.0.tar.gz StartedAt: 2025-10-16 01:42:05 -0400 (Thu, 16 Oct 2025) EndedAt: 2025-10-16 01:43:38 -0400 (Thu, 16 Oct 2025) EllapsedTime: 93.1 seconds RetCode: 0 Status: OK CheckDir: nnNorm.Rcheck Warnings: 0