Package: nnNorm Version: 2.72.0 Command: /Library/Frameworks/R.framework/Resources/bin/R CMD build --keep-empty-dirs --no-resave-data nnNorm StartedAt: 2025-10-14 05:44:14 -0400 (Tue, 14 Oct 2025) EndedAt: 2025-10-14 05:45:05 -0400 (Tue, 14 Oct 2025) EllapsedTime: 51.7 seconds RetCode: 0 Status: OK PackageFile: nnNorm_2.72.0.tar.gz PackageFileSize: 1.59 MiB